BEGIN:VCALENDAR
VERSION:2.0
PRODID:-//eventon.com NONSGML v1.0//EN
CALSCALE:GREGORIAN
METHOD:PUBLISH
BEGIN:VEVENT
UID:69ec949952de8
DTSTAMP:20260425T101657Z
DTSTART:20240501T183000Z
DTEND:20240501T235000Z
LOCATION:
SUMMARY:Cycling Group Ride
DESCRIPTION:Cycling Group Ride\nhttps://www.montrosetriathlonclub.co.uk/eve
 nts/cycling-group-ride-2/
URL:https://www.montrosetriathlonclub.co.uk/events/cycling-group-ride-2/
END:VEVENT
END:VCALENDAR