BEGIN:VCALENDAR
VERSION:2.0
PRODID:-//eventon.com NONSGML v1.0//EN
CALSCALE:GREGORIAN
METHOD:PUBLISH
BEGIN:VEVENT
UID:69e5b97fb9cdb
DTSTAMP:20260420T052831Z
DTSTART:20230529T190000Z
DTEND:20230529T200000Z
LOCATION:
SUMMARY:Open Water Session at Knockburn (NO POOL SESSION)
DESCRIPTION:Open Water Session at Knockburn (NO POOL SESSION)\nhttps://www.
 montrosetriathlonclub.co.uk/events/open-water-session-at-knockburn-no-pool-
 session-4/
URL:https://www.montrosetriathlonclub.co.uk/events/open-water-session-at-knockburn-no-pool-session-4/
END:VEVENT
END:VCALENDAR